BEGIN:VCALENDAR
VERSION:2.0
PRODID:icalendar-ruby
CALSCALE:GREGORIAN
METHOD:PUBLISH
BEGIN:VTIMEZONE
TZID:Europe/Oslo
BEGIN:DAYLIGHT
DTSTART:20260329T030000
TZOFFSETFROM:+0100
TZOFFSETTO:+0200
RRULE:FREQ=YEARLY;BYDAY=-1SU;BYMONTH=3
TZNAME:CEST
END:DAYLIGHT
BEGIN:STANDARD
DTSTART:20261025T020000
TZOFFSETFROM:+0200
TZOFFSETTO:+0100
RRULE:FREQ=YEARLY;BYDAY=-1SU;BYMONTH=10
TZNAME:CET
END:STANDARD
END:VTIMEZONE
BEGIN:VEVENT
DTSTAMP:20260423T123523Z
UID:1114329
DTSTART;TZID=Europe/Oslo:20260429T220000
DTEND;TZID=Europe/Oslo:20260430T023000
LOCATION:Larris Scene\, Scandic Sunnfjord Hotel & Spa
SEQUENCE:1776936181
SUMMARY:REVYFEST FØRDERUSSEN 2026 // LARRIS SCENE M/DJ HEINE
END:VEVENT
END:VCALENDAR
